BEGIN:VCALENDAR
VERSION:2.0
PRODID:-//Leekpea kunstiateljee - ECPv6.15.20//NONSGML v1.0//EN
CALSCALE:GREGORIAN
METHOD:PUBLISH
X-WR-CALNAME:Leekpea kunstiateljee
X-ORIGINAL-URL:https://leekpea.ee
X-WR-CALDESC:Events for Leekpea kunstiateljee
REFRESH-INTERVAL;VALUE=DURATION:PT1H
X-Robots-Tag:noindex
X-PUBLISHED-TTL:PT1H
BEGIN:VTIMEZONE
TZID:Europe/Tallinn
BEGIN:DAYLIGHT
TZOFFSETFROM:+0200
TZOFFSETTO:+0300
TZNAME:EEST
DTSTART:20250330T010000
END:DAYLIGHT
BEGIN:STANDARD
TZOFFSETFROM:+0300
TZOFFSETTO:+0200
TZNAME:EET
DTSTART:20251026T010000
END:STANDARD
BEGIN:DAYLIGHT
TZOFFSETFROM:+0200
TZOFFSETTO:+0300
TZNAME:EEST
DTSTART:20260329T010000
END:DAYLIGHT
BEGIN:STANDARD
TZOFFSETFROM:+0300
TZOFFSETTO:+0200
TZNAME:EET
DTSTART:20261025T010000
END:STANDARD
BEGIN:DAYLIGHT
TZOFFSETFROM:+0200
TZOFFSETTO:+0300
TZNAME:EEST
DTSTART:20270328T010000
END:DAYLIGHT
BEGIN:STANDARD
TZOFFSETFROM:+0300
TZOFFSETTO:+0200
TZNAME:EET
DTSTART:20271031T010000
END:STANDARD
END:VTIMEZONE
BEGIN:VEVENT
DTSTART;TZID=Europe/Tallinn:20260414T120000
DTEND;TZID=Europe/Tallinn:20260414T133000
DTSTAMP:20260420T122538
CREATED:20260103T083049Z
LAST-MODIFIED:20260410T125304Z
UID:10000026-1776168000-1776173400@leekpea.ee
SUMMARY:(grupp täis) Koolivaheaja lastekoolitus: SUVEÖÖ LUMMUS
DESCRIPTION:Suvi on mõnus aeg\, kus õhtud venivad pikaks\, justkui päev ei tahaks lõppeda. Valgus hajub aeglaselt\, jättes endast maha kuldseid varje ja sügavaid siniseid toone. \nKoolitusel õpime segama suviseid õhtutoone – kuldsest kumast kuni sametise öösiniseni. Tumedate toonidega maalime maastiku\, et rõhutada helenduvat valguskuma. \nKoolituse maksumus on 20 eurot\, mis sisaldab 40×50 cm lõuendit\, kaitsevahendeid ja kõiki tarvikuid\, mis kunsti tegemiseks vaja läheb. \nRegistreerimine ainult meili teel: leekpea@hotmail.com \nGrupi suurus on piiratud. \nKaasa vahetusjalnõud. \n\n\n\n\n\n\n\n\n\n\n\n\n\n\n\n 
URL:https://leekpea.ee/event/koolivaheaja-lastekoolitus/
END:VEVENT
END:VCALENDAR