BEGIN:VCALENDAR
VERSION:2.0
PRODID:-//Leekpea kunstiateljee - ECPv6.15.20//NONSGML v1.0//EN
CALSCALE:GREGORIAN
METHOD:PUBLISH
X-ORIGINAL-URL:https://leekpea.ee
X-WR-CALDESC:Events for Leekpea kunstiateljee
REFRESH-INTERVAL;VALUE=DURATION:PT1H
X-Robots-Tag:noindex
X-PUBLISHED-TTL:PT1H
BEGIN:VTIMEZONE
TZID:Europe/Tallinn
BEGIN:DAYLIGHT
TZOFFSETFROM:+0200
TZOFFSETTO:+0300
TZNAME:EEST
DTSTART:20250330T010000
END:DAYLIGHT
BEGIN:STANDARD
TZOFFSETFROM:+0300
TZOFFSETTO:+0200
TZNAME:EET
DTSTART:20251026T010000
END:STANDARD
BEGIN:DAYLIGHT
TZOFFSETFROM:+0200
TZOFFSETTO:+0300
TZNAME:EEST
DTSTART:20260329T010000
END:DAYLIGHT
BEGIN:STANDARD
TZOFFSETFROM:+0300
TZOFFSETTO:+0200
TZNAME:EET
DTSTART:20261025T010000
END:STANDARD
BEGIN:DAYLIGHT
TZOFFSETFROM:+0200
TZOFFSETTO:+0300
TZNAME:EEST
DTSTART:20270328T010000
END:DAYLIGHT
BEGIN:STANDARD
TZOFFSETFROM:+0300
TZOFFSETTO:+0200
TZNAME:EET
DTSTART:20271031T010000
END:STANDARD
END:VTIMEZONE
BEGIN:VEVENT
DTSTART;TZID=Europe/Tallinn:20260423T180000
DTEND;TZID=Europe/Tallinn:20260423T203000
DTSTAMP:20260422T082320
CREATED:20260103T070915Z
LAST-MODIFIED:20260103T070915Z
UID:10000021-1776967200-1776976200@leekpea.ee
SUMMARY:DEKORATIIVNE STRUKTUURMAAL
DESCRIPTION:Koolitusel õpime järk-järgult maali pinnavormi loomist ja selle mahuliseks kasvatamist. Lisaks pintslile võtame appi maalinoa ja struktuurpasta. \n\n\n\nTeraapiline kogemus neile\, kellele meeldib värve segada ja struktuure luua. \n\n\n\nKaasa võtta föön. \n\n\n\nKoolituse maksumus sõltub valitud lõuendi suurusest (30-45 eurot). \n\n\n\nRegistreerida koolitustele saab ainult meili teel leekpea@hotmail.com
URL:https://leekpea.ee/event/dekoratiivne-struktuurmaal/
END:VEVENT
END:VCALENDAR